BEGIN:VCALENDAR
VERSION:2.0
PRODID:-//ChamberMaster//Event Calendar 2.0//EN
METHOD:PUBLISH
X-PUBLISHED-TTL:P3D
REFRESH-INTERVAL:P3D
CALSCALE:GREGORIAN
BEGIN:VEVENT
DTSTART:20260430T131500Z
DTEND:20260430T211500Z
X-MICROSOFT-CDO-ALLDAYEVENT:FALSE
SUMMARY:Social Sensitivity in a Changing Workplace - by QNET
DESCRIPTION:In our ever-changing world\, it can be difficult to keep up with social knowledge that helps us be effective and sensitive in day-to-day communications. No matter how well-intended\, causing insult to someone can have lasting impacts on the person wounded\, as well as the person assumed\, or accused\, of having caused harm. In this interactive workshop participants will engage in discussions and self-reflective activities to raise both their awareness to recognize aspects of social expectation that can be risky when interacting with others\, and how to repair when they have not duly considered these expectations and made social errors.
X-ALT-DESC;FMTTYPE=text/html:In our ever-changing world\, it can be difficult to keep up with social knowledge that helps us be effective and sensitive in day-to-day communications. No matter how well-intended\, causing insult to someone can have lasting impacts on the person wounded\, as well as the person assumed\, or accused\, of having caused harm. In this interactive workshop participants will engage in discussions and self-reflective activities to raise both their awareness to recognize aspects of social expectation that can be risky when interacting with others\, and how to repair when they have not duly considered these expectations and made social errors.
LOCATION:QNET 660 - 175 Hargrave Street
UID:e.3629.536
SEQUENCE:3
DTSTAMP:20260420T201416Z
URL:https://business.mbchamber.mb.ca/events/details/social-sensitivity-in-a-changing-workplace-by-qnet-536
END:VEVENT

END:VCALENDAR
