BEGIN:VCALENDAR
VERSION:2.0
PRODID:-//ChamberMaster//Event Calendar 2.0//EN
METHOD:PUBLISH
X-PUBLISHED-TTL:P3D
REFRESH-INTERVAL:P3D
CALSCALE:GREGORIAN
BEGIN:VEVENT
DTSTART:20260429T131500Z
DTEND:20260429T170000Z
X-MICROSOFT-CDO-ALLDAYEVENT:FALSE
SUMMARY:Emotional Intelligence Skill Development - by QNET
DESCRIPTION:At this half day workshop\, you will review how to use the three 'E's" of Emotional Intelligence   Emotional Self Awareness\, Emotional Expression and Empathy   to achieve greater success both personally and professionally.
X-ALT-DESC;FMTTYPE=text/html:At this half day workshop\, you will review how to use the three &lsquo\;E&rsquo\;s&rdquo\; of Emotional Intelligence &ndash\; Emotional Self Awareness\, Emotional Expression and Empathy &ndash\; to achieve greater success both personally and professionally.
LOCATION:QNET 660 - 175 Hargrave Street
UID:e.3629.535
SEQUENCE:3
DTSTAMP:20260420T200727Z
URL:https://business.mbchamber.mb.ca/events/details/emotional-intelligence-skill-development-by-qnet-535
END:VEVENT

END:VCALENDAR
