BEGIN:VCALENDAR
VERSION:2.0
PRODID:-//ChamberMaster//Event Calendar 2.0//EN
METHOD:PUBLISH
X-PUBLISHED-TTL:P3D
REFRESH-INTERVAL:P3D
CALSCALE:GREGORIAN
BEGIN:VEVENT
DTSTART:20240320T123000Z
DTEND:20240320T220000Z
X-MICROSOFT-CDO-ALLDAYEVENT:FALSE
SUMMARY:Bioscience Association Manitoba: 2024 Funding Day
DESCRIPTION:Unlock the path to success at the 2024 Manitoba Funding Day with the Bioscience Association Manitoba.\n\n\n\nJoin over 600 businesses who've transformed their growth journey with invaluable insights and resources. Seeking funding for expansion? Dive into personalized one-on-one meetings with funders\, investors\, and service providers through BAM's cutting-edge match-making process.\n\n\n\nDon't miss out spaces are limited! Secure your spot now: https://www.biomb.ca/events/event/1754
X-ALT-DESC;FMTTYPE=text/html:Unlock the path to success at the 2024 Manitoba Funding Day with the Bioscience Association Manitoba.<br />\n<br />\nJoin over 600 businesses who&#39\;ve transformed their growth journey with invaluable insights and resources. Seeking funding for expansion? Dive into personalized one-on-one meetings with funders\, investors\, and service providers through BAM&rsquo\;s cutting-edge match-making process.<br />\n<br />\nDon&#39\;t miss out&mdash\;spaces are limited! Secure your spot now:&nbsp\;https://www.biomb.ca/events/event/1754
LOCATION:Hilton Winnipeg Airport Suites
UID:e.3629.210
SEQUENCE:3
DTSTAMP:20260420T111133Z
URL:https://business.mbchamber.mb.ca/events/details/bioscience-association-manitoba-2024-funding-day-210
END:VEVENT

END:VCALENDAR
