BEGIN:VCALENDAR
VERSION:2.0
PRODID:-//ChamberMaster//Event Calendar 2.0//EN
METHOD:PUBLISH
X-PUBLISHED-TTL:P3D
REFRESH-INTERVAL:P3D
CALSCALE:GREGORIAN
BEGIN:VEVENT
DTSTART:20261007T220000Z
DTEND:20261008T040000Z
X-MICROSOFT-CDO-ALLDAYEVENT:FALSE
SUMMARY:2026 DEER LODGE DANCE HALL PRESENTS: CARNIVAL IN VENICE
DESCRIPTION:2026 DEER LODGE DANCE HALL\, THE BEST PARTY OF THE YEAR\n\nDance Hall returns to Deer Lodge Centre on October 7\, 2026\, and this year\, we're taking you somewhere unforgettable.\n\nINTRODUCING: CARNIVAL IN VENICE\n\nAn evening of elegance\, intrigue\, and celebration\, where the Dance Hall will be transformed into a world of rich textures\, glowing candlelight\, and masked mystery. It's a theme designed to pull you in from the moment you arrive\, and keep you on the dance floor all night long.\n\nWe'll be sharing more details soon\, but one thing is certain: this will be a night to dress up\, step out\, and experience something truly special.\n\nLast year\, Deer Lodge Centre's Main Street was transformed into a dazzling disco dreamscape as more than 300 supporters stepped into Wednesday Night Fever\, our most vibrant Dance Hall to date. Sequins shimmered\, disco balls spun\, and the energy never let up as guests came together for a night filled with music\, joy\, and purpose.\n\nBy the time the final song played\, this incredible community had raised more than $90\,000 in support of the Deer Lodge Centre courtyard redevelopment project.\n\nThis year\, we build on that momentum.\n\nA new theme. A new atmosphere. The same powerful impact.\n\nMark your calendar now\, because Carnival in Venice is coming to Dance Hall and you won't want to miss it. Details coming soon!
X-ALT-DESC;FMTTYPE=text/html:<h1 style="margin-left:0px\; margin-right:0px\; text-align:center">2026 DEER LODGE DANCE HALL\, THE BEST PARTY OF THE YEAR</h1>\n\n<p style="margin-left:0px\; margin-right:0px">Dance Hall returns to&nbsp\;<a href="https://deerlodge.mb.ca/" rel="noopener" style="box-sizing: border-box\; text-decoration: none\; color: rgb(201\, 108\, 97)\; transition: all 0.5s\;" target="_blank">Deer Lodge Centre</a>&nbsp\;on October 7\, 2026\, and this year\, we&rsquo\;re taking you somewhere unforgettable.</p>\n\n<h3><strong>INTRODUCING: CARNIVAL IN VENICE</strong></h3>\n\n<p style="margin-left:0px\; margin-right:0px">An evening of elegance\, intrigue\, and celebration\, where the Dance Hall will be transformed into a world of rich textures\, glowing candlelight\, and masked mystery. It&rsquo\;s a theme designed to pull you in from the moment you arrive\, and keep you on the dance floor all night long.</p>\n\n<p style="margin-left:0px\; margin-right:0px">We&rsquo\;ll be sharing more details soon\, but one thing is certain: this will be a night to dress up\, step out\, and experience something truly special.</p>\n\n<p style="margin-left:0px\; margin-right:0px"><a href="https://www.deerlodgecentrefoundation.com/dance-hall-raises-90000/" style="box-sizing: border-box\; text-decoration: none\; color: rgb(201\, 108\, 97)\; transition: all 0.5s\;">Last year\, Deer Lodge Centre&rsquo\;s Main Street was transformed</a>&nbsp\;into a dazzling disco dreamscape as more than 300 supporters stepped into&nbsp\;<em>Wednesday Night Fever\,&nbsp\;</em>our most vibrant Dance Hall to date. Sequins shimmered\, disco balls spun\, and the energy never let up as guests came together for a night filled with music\, joy\, and purpose.</p>\n\n<p style="margin-left:0px\; margin-right:0px">By the time the final song played\, this incredible community had raised more than $90\,000 in support of the&nbsp\;<a href="https://www.deerlodgecentrefoundation.com/campaigns/courtyard-refurbishment/" style="box-sizing: border-box\; text-decoration: none\; color: rgb(201\, 108\, 97)\; transition: all 0.5s\;">Deer Lodge Centre courtyard redevelopment project</a>.</p>\n\n<p style="margin-left:0px\; margin-right:0px">This year\, we build on that momentum.</p>\n\n<p style="margin-left:0px\; margin-right:0px">A new theme. A new atmosphere. The same powerful impact.</p>\n\n<p style="margin-left:0px\; margin-right:0px">Mark your calendar now\, because Carnival in Venice is coming to Dance Hall and you won&rsquo\;t want to miss it. Details coming soon!</p>\n
LOCATION:Deer Lodge Centre\, 2109 Portage Avenue\, Winnipeg
UID:e.3629.538
SEQUENCE:3
DTSTAMP:20260422T001049Z
URL:https://business.mbchamber.mb.ca/events/details/2026-deer-lodge-dance-hall-presents-carnival-in-venice-538
END:VEVENT

END:VCALENDAR
