BEGIN:VCALENDAR
VERSION:2.0
PRODID:-//ChamberMaster//Event Calendar 2.0//EN
METHOD:PUBLISH
X-PUBLISHED-TTL:P3D
REFRESH-INTERVAL:P3D
CALSCALE:GREGORIAN
BEGIN:VEVENT
DTSTART;VALUE=DATE:20260709
DTEND;VALUE=DATE:20260710
TRANSP:TRANSPARENT
X-MICROSOFT-CDO-ALLDAYEVENT:TRUE
SUMMARY:2026 DEER LODGE CENTRE FOUNDATION CHARITY GOLF CLASSIC PRESENTED BY FOOD FARE
DESCRIPTION:Ready to swing for a cause? Mark your calendars for the 2026 Deer Lodge Centre Foundation Charity Golf Classic\, Presented by Food Fare! Let's make a lasting impact together while enjoying a day of fun\, friendship\, and philanthropy on the greens.\n\nWHY TEE OFF WITH US?\n\nIn 2025\, you helped us raise an incredible $164\,733 to renovate our courtyard\, creating a vibrant\, relaxing space for Deer Lodge Centre patients\, residents\, staff\, and families to enjoy. This year\, we're aiming even higher!\n\nEVENT DETAILS\n\nDate: Thursday\, July 9\, 2026\n\nLocation: Breezy Bend Golf + Country Club\, 7620 Roblin Blvd\, Headingley\, MB\n\nSchedule:\n\n\n	10:00 AM   Registration\n	11:00 AM   Lunch\n	12:00 PM   Shotgun Start\n	Reception & Awards Ceremony immediately following the tournament\n\n\nWHAT TO EXPECT AT THE DEER LODGE CENTRE FOUNDATION CHARITY GOLF CLASSIC\n\nA Premier Golf Experience | Enjoy a round of golf on one of Manitoba's most beautiful courses.\n\nFun Contests & Prizes | Test your skills with our crowd-favourite putting contest and win exciting prizes.\n\nDelicious Food & Drinks | Lunch and a celebratory reception catered by local favourites.\n\nCommunity Impact | Every swing supports Deer Lodge Centre and enhances the care and comfort of those who need it most.\n\nSPONSORSHIP OPPORTUNITIES & REGISTRATION\n\nMake a difference while gaining great visibility for your business! Secure your sponsorship or register your team today.\n\nContact: Alicia Faucher\n\nPhone: 204.272.8911\n\nEmail: afaucher@deerlodgefoundation.ca\n\nLet's make the 2026 Deer Lodge Centre Foundation Charity Golf Classic our biggest success yet!\n\nSpaces are limited\, don't miss out on this unforgettable day of giving back!
X-ALT-DESC;FMTTYPE=text/html:<p style="margin-left:0px\; margin-right:0px">Ready to swing for a cause? Mark your calendars for the 2026 Deer Lodge Centre Foundation Charity Golf Classic\, Presented by&nbsp\;<a href="https://foodfare.com/" rel="noopener" style="box-sizing: border-box\; text-decoration: none\; color: rgb(201\, 108\, 97)\; transition: all 0.5s\;" target="_blank">Food Fare</a>! Let&rsquo\;s make a lasting impact together while enjoying a day of fun\, friendship\, and philanthropy on the greens.</p>\n\n<h3>WHY TEE OFF WITH US?</h3>\n\n<p style="margin-left:0px\; margin-right:0px">In 2025\, you helped us raise an incredible $164\,733 to&nbsp\;<a href="https://www.deerlodgecentrefoundation.com/campaigns/courtyard-refurbishment/" style="box-sizing: border-box\; text-decoration: none\; color: rgb(201\, 108\, 97)\; transition: all 0.5s\;">renovate our courtyard\,&nbsp\;</a>creating a vibrant\, relaxing space for Deer Lodge Centre patients\, residents\, staff\, and families to enjoy. This year\, we&rsquo\;re aiming even higher!</p>\n\n<h3>EVENT DETAILS</h3>\n\n<p style="margin-left:0px\; margin-right:0px"><strong>Date:</strong>&nbsp\;Thursday\, July 9\, 2026<br />\n<strong>Location:</strong>&nbsp\;<a href="https://breezybend.ca/" rel="noopener" style="box-sizing: border-box\; text-decoration: none\; color: rgb(201\, 108\, 97)\; transition: all 0.5s\;" target="_blank">Breezy Bend Golf + Country Club</a>\, 7620 Roblin Blvd\, Headingley\, MB<br />\n<strong>Schedule:</strong></p>\n\n<ul>\n	<li>10:00 AM &ndash\; Registration</li>\n	<li>11:00 AM &ndash\; Lunch</li>\n	<li>12:00 PM &ndash\; Shotgun Start</li>\n	<li>Reception &amp\; Awards Ceremony immediately following the tournament</li>\n</ul>\n\n<h3>WHAT TO EXPECT AT THE DEER LODGE CENTRE FOUNDATION CHARITY GOLF CLASSIC</h3>\n\n<p style="margin-left:0px\; margin-right:0px"><strong>A Premier Golf Experience</strong>&nbsp\;| Enjoy a round of golf on one of Manitoba&rsquo\;s most beautiful courses.<br />\n<strong>Fun Contests &amp\; Prizes</strong>&nbsp\;| Test your skills with our crowd-favourite putting contest and win exciting prizes.<br />\n<strong>Delicious Food &amp\; Drinks</strong>&nbsp\;| Lunch and a celebratory reception catered by local favourites.<br />\n<strong>Community Impact</strong>&nbsp\;| Every swing supports Deer Lodge Centre and enhances the care and comfort of those who need it most.</p>\n\n<h3>SPONSORSHIP OPPORTUNITIES &amp\; REGISTRATION</h3>\n\n<p style="margin-left:0px\; margin-right:0px">Make a difference while gaining great visibility for your business! Secure your sponsorship or register your team today.</p>\n\n<p style="margin-left:0px\; margin-right:0px"><strong>Contact:</strong>&nbsp\;Alicia Faucher<br />\n<strong>Phone:</strong>&nbsp\;204.272.8911<br />\n<strong>Email:</strong>&nbsp\;afaucher@deerlodgefoundation.ca</p>\n\n<p style="margin-left:0px\; margin-right:0px"><strong>Let&rsquo\;s make the 2026 Deer Lodge Centre Foundation Charity Golf Classic our biggest success yet!</strong></p>\n\n<p style="margin-left:0px\; margin-right:0px">Spaces are limited\, don&rsquo\;t miss out on this unforgettable day of giving back!</p>\n
LOCATION:Breezy Bend Golf & Country Club
UID:e.3629.537
SEQUENCE:3
DTSTAMP:20260422T000812Z
URL:https://business.mbchamber.mb.ca/events/details/2026-deer-lodge-centre-foundation-charity-golf-classic-presented-by-food-fare-537
END:VEVENT

END:VCALENDAR
